BEGIN:VCALENDAR
VERSION:2.0
PRODID:-//Chorus North Shore - ECPv6.15.20//NONSGML v1.0//EN
CALSCALE:GREGORIAN
METHOD:PUBLISH
X-ORIGINAL-URL:http://www.chorusnorthshore.org
X-WR-CALDESC:Events for Chorus North Shore
REFRESH-INTERVAL;VALUE=DURATION:PT1H
X-Robots-Tag:noindex
X-PUBLISHED-TTL:PT1H
BEGIN:VTIMEZONE
TZID:America/Halifax
BEGIN:DAYLIGHT
TZOFFSETFROM:-0400
TZOFFSETTO:-0300
TZNAME:ADT
DTSTART:20250309T060000
END:DAYLIGHT
BEGIN:STANDARD
TZOFFSETFROM:-0300
TZOFFSETTO:-0400
TZNAME:AST
DTSTART:20251102T050000
END:STANDARD
BEGIN:DAYLIGHT
TZOFFSETFROM:-0400
TZOFFSETTO:-0300
TZNAME:ADT
DTSTART:20260308T060000
END:DAYLIGHT
BEGIN:STANDARD
TZOFFSETFROM:-0300
TZOFFSETTO:-0400
TZNAME:AST
DTSTART:20261101T050000
END:STANDARD
BEGIN:DAYLIGHT
TZOFFSETFROM:-0400
TZOFFSETTO:-0300
TZNAME:ADT
DTSTART:20270314T060000
END:DAYLIGHT
BEGIN:STANDARD
TZOFFSETFROM:-0300
TZOFFSETTO:-0400
TZNAME:AST
DTSTART:20271107T050000
END:STANDARD
END:VTIMEZONE
BEGIN:VEVENT
DTSTART;TZID=America/Halifax:20260611T190000
DTEND;TZID=America/Halifax:20260611T210000
DTSTAMP:20260420T144033
CREATED:20260101T205345Z
LAST-MODIFIED:20260101T205345Z
UID:15941-1781204400-1781211600@www.chorusnorthshore.org
SUMMARY:Dress Rehearsal
DESCRIPTION:
URL:http://www.chorusnorthshore.org/event/dress-rehearsal/
LOCATION:ISH – Dolan Performing Arts Center\, 134 High Street\, Ipswich\, MA\, 01938\, United States
CATEGORIES:Members Events
END:VEVENT
END:VCALENDAR