BEGIN:VCALENDAR
VERSION:2.0
PRODID:-//Chorus North Shore - ECPv6.15.20//NONSGML v1.0//EN
CALSCALE:GREGORIAN
METHOD:PUBLISH
X-WR-CALNAME:Chorus North Shore
X-ORIGINAL-URL:http://www.chorusnorthshore.org
X-WR-CALDESC:Events for Chorus North Shore
REFRESH-INTERVAL;VALUE=DURATION:PT1H
X-Robots-Tag:noindex
X-PUBLISHED-TTL:PT1H
BEGIN:VTIMEZONE
TZID:America/Halifax
BEGIN:DAYLIGHT
TZOFFSETFROM:-0400
TZOFFSETTO:-0300
TZNAME:ADT
DTSTART:20250309T060000
END:DAYLIGHT
BEGIN:STANDARD
TZOFFSETFROM:-0300
TZOFFSETTO:-0400
TZNAME:AST
DTSTART:20251102T050000
END:STANDARD
BEGIN:DAYLIGHT
TZOFFSETFROM:-0400
TZOFFSETTO:-0300
TZNAME:ADT
DTSTART:20260308T060000
END:DAYLIGHT
BEGIN:STANDARD
TZOFFSETFROM:-0300
TZOFFSETTO:-0400
TZNAME:AST
DTSTART:20261101T050000
END:STANDARD
BEGIN:DAYLIGHT
TZOFFSETFROM:-0400
TZOFFSETTO:-0300
TZNAME:ADT
DTSTART:20270314T060000
END:DAYLIGHT
BEGIN:STANDARD
TZOFFSETFROM:-0300
TZOFFSETTO:-0400
TZNAME:AST
DTSTART:20271107T050000
END:STANDARD
END:VTIMEZONE
BEGIN:VEVENT
DTSTART;TZID=America/Halifax:20260609T190000
DTEND;TZID=America/Halifax:20260609T210000
DTSTAMP:20260420T162733
CREATED:20260101T204950Z
LAST-MODIFIED:20260312T173245Z
UID:15936-1781031600-1781038800@www.chorusnorthshore.org
SUMMARY:Chorus Rehearsal
DESCRIPTION:
URL:http://www.chorusnorthshore.org/event/rehearsal-23/
LOCATION:Ipswich High School Chorus Room\, 134 High St\, Ipswich\, MA\, 01938\, United States
CATEGORIES:Members Events
END:VEVENT
END:VCALENDAR