BEGIN:VCALENDAR
VERSION:2.0
PRODID:-//Chorus North Shore - ECPv6.15.20//NONSGML v1.0//EN
CALSCALE:GREGORIAN
METHOD:PUBLISH
X-ORIGINAL-URL:http://www.chorusnorthshore.org
X-WR-CALDESC:Events for Chorus North Shore
REFRESH-INTERVAL;VALUE=DURATION:PT1H
X-Robots-Tag:noindex
X-PUBLISHED-TTL:PT1H
BEGIN:VTIMEZONE
TZID:America/Halifax
BEGIN:DAYLIGHT
TZOFFSETFROM:-0400
TZOFFSETTO:-0300
TZNAME:ADT
DTSTART:20250309T060000
END:DAYLIGHT
BEGIN:STANDARD
TZOFFSETFROM:-0300
TZOFFSETTO:-0400
TZNAME:AST
DTSTART:20251102T050000
END:STANDARD
BEGIN:DAYLIGHT
TZOFFSETFROM:-0400
TZOFFSETTO:-0300
TZNAME:ADT
DTSTART:20260308T060000
END:DAYLIGHT
BEGIN:STANDARD
TZOFFSETFROM:-0300
TZOFFSETTO:-0400
TZNAME:AST
DTSTART:20261101T050000
END:STANDARD
BEGIN:DAYLIGHT
TZOFFSETFROM:-0400
TZOFFSETTO:-0300
TZNAME:ADT
DTSTART:20270314T060000
END:DAYLIGHT
BEGIN:STANDARD
TZOFFSETFROM:-0300
TZOFFSETTO:-0400
TZNAME:AST
DTSTART:20271107T050000
END:STANDARD
END:VTIMEZONE
BEGIN:VEVENT
DTSTART;TZID=America/Halifax:20260601T190000
DTEND;TZID=America/Halifax:20260601T210000
DTSTAMP:20260420T130012
CREATED:20260101T204848Z
LAST-MODIFIED:20260101T204848Z
UID:15934-1780340400-1780347600@www.chorusnorthshore.org
SUMMARY:Rehearsal
DESCRIPTION:
URL:http://www.chorusnorthshore.org/event/rehearsal-22/
LOCATION:Ipswich High School Chorus Room\, 134 High St\, Ipswich\, MA\, 01938\, United States
CATEGORIES:Members Events
END:VEVENT
BEGIN:VEVENT
DTSTART;TZID=America/Halifax:20260609T190000
DTEND;TZID=America/Halifax:20260609T210000
DTSTAMP:20260420T130012
CREATED:20260101T204950Z
LAST-MODIFIED:20260312T173245Z
UID:15936-1781031600-1781038800@www.chorusnorthshore.org
SUMMARY:Chorus Rehearsal
DESCRIPTION:
URL:http://www.chorusnorthshore.org/event/rehearsal-23/
LOCATION:Ipswich High School Chorus Room\, 134 High St\, Ipswich\, MA\, 01938\, United States
CATEGORIES:Members Events
END:VEVENT
BEGIN:VEVENT
DTSTART;TZID=America/Halifax:20260610T190000
DTEND;TZID=America/Halifax:20260610T210000
DTSTAMP:20260420T130012
CREATED:20260101T205242Z
LAST-MODIFIED:20260101T205242Z
UID:15938-1781118000-1781125200@www.chorusnorthshore.org
SUMMARY:Orchestra Rehearsal
DESCRIPTION:
URL:http://www.chorusnorthshore.org/event/orchestra-rehearsal-2/
LOCATION:Ipswich High School Band Room
CATEGORIES:Members Events
END:VEVENT
BEGIN:VEVENT
DTSTART;TZID=America/Halifax:20260611T190000
DTEND;TZID=America/Halifax:20260611T210000
DTSTAMP:20260420T130012
CREATED:20260101T205345Z
LAST-MODIFIED:20260101T205345Z
UID:15941-1781204400-1781211600@www.chorusnorthshore.org
SUMMARY:Dress Rehearsal
DESCRIPTION:
URL:http://www.chorusnorthshore.org/event/dress-rehearsal/
LOCATION:ISH – Dolan Performing Arts Center\, 134 High Street\, Ipswich\, MA\, 01938\, United States
CATEGORIES:Members Events
END:VEVENT
BEGIN:VEVENT
DTSTART;TZID=America/Halifax:20260613T180000
DTEND;TZID=America/Halifax:20260613T210000
DTSTAMP:20260420T130012
CREATED:20260101T205449Z
LAST-MODIFIED:20260101T205449Z
UID:15943-1781373600-1781384400@www.chorusnorthshore.org
SUMMARY:Concert
DESCRIPTION:On Risers at 6 \nConcert Starts at 7
URL:http://www.chorusnorthshore.org/event/concert-3/
LOCATION:ISH – Dolan Performing Arts Center\, 134 High Street\, Ipswich\, MA\, 01938\, United States
CATEGORIES:Members Events
END:VEVENT
BEGIN:VEVENT
DTSTART;TZID=America/Halifax:20260614T130000
DTEND;TZID=America/Halifax:20260614T160000
DTSTAMP:20260420T130012
CREATED:20260101T205549Z
LAST-MODIFIED:20260101T205549Z
UID:15945-1781442000-1781452800@www.chorusnorthshore.org
SUMMARY:Concert
DESCRIPTION:On Risers at 1 \nConcert Starts at 2
URL:http://www.chorusnorthshore.org/event/concert-4/
LOCATION:ISH – Dolan Performing Arts Center\, 134 High Street\, Ipswich\, MA\, 01938\, United States
CATEGORIES:Members Events
END:VEVENT
END:VCALENDAR